BEGIN:VCALENDAR
VERSION:2.0
PRODID:-//Midtown Row - ECPv6.15.20//NONSGML v1.0//EN
CALSCALE:GREGORIAN
METHOD:PUBLISH
X-ORIGINAL-URL:https://midtownrowwilliamsburg.com
X-WR-CALDESC:Events for Midtown Row
REFRESH-INTERVAL;VALUE=DURATION:PT1H
X-Robots-Tag:noindex
X-PUBLISHED-TTL:PT1H
BEGIN:VTIMEZONE
TZID:America/New_York
BEGIN:DAYLIGHT
TZOFFSETFROM:-0500
TZOFFSETTO:-0400
TZNAME:EDT
DTSTART:20230312T070000
END:DAYLIGHT
BEGIN:STANDARD
TZOFFSETFROM:-0400
TZOFFSETTO:-0500
TZNAME:EST
DTSTART:20231105T060000
END:STANDARD
BEGIN:DAYLIGHT
TZOFFSETFROM:-0500
TZOFFSETTO:-0400
TZNAME:EDT
DTSTART:20240310T070000
END:DAYLIGHT
BEGIN:STANDARD
TZOFFSETFROM:-0400
TZOFFSETTO:-0500
TZNAME:EST
DTSTART:20241103T060000
END:STANDARD
BEGIN:DAYLIGHT
TZOFFSETFROM:-0500
TZOFFSETTO:-0400
TZNAME:EDT
DTSTART:20250309T070000
END:DAYLIGHT
BEGIN:STANDARD
TZOFFSETFROM:-0400
TZOFFSETTO:-0500
TZNAME:EST
DTSTART:20251102T060000
END:STANDARD
BEGIN:DAYLIGHT
TZOFFSETFROM:-0500
TZOFFSETTO:-0400
TZNAME:EDT
DTSTART:20260308T070000
END:DAYLIGHT
BEGIN:STANDARD
TZOFFSETFROM:-0400
TZOFFSETTO:-0500
TZNAME:EST
DTSTART:20261101T060000
END:STANDARD
END:VTIMEZONE
BEGIN:VEVENT
DTSTART;TZID=America/New_York:20240718T180000
DTEND;TZID=America/New_York:20240718T200000
DTSTAMP:20260421T045116
CREATED:20240117T195606Z
LAST-MODIFIED:20240711T232450Z
UID:1511-1721325600-1721332800@midtownrowwilliamsburg.com
SUMMARY:Music In Midtown: The Connection
DESCRIPTION:The Connection is back again for our Music In Midtown Concert Series!\n\nThis concert has been postponed to Thursday\, July 18 from 6pm-8pm\nLocation: Midtown Row Village Green (Across from Super Chix)\n\nThe Connection is a 5 piece blues/rock/folk group that has been around since February 2021 and have been gaining more popularity in the Williamsburg and surrounding Hampton Roads area in Virginia since its inception. They have also played throughout the Outer Banks of NC. With original music\, and a wide variety of covers to offer\, The Connection is sure to appeal to any atmosphere big or small. With a very eclectic mix of genres as well as members who play various instruments ranging from lap steel guitar to mandolin\, you can be assured that everyone will be dancing and singing all night. The three best words to describe a Connection show would be Upbeat\, Catchy and FUN!\n\nBring your lawn chairs and friends for a fun night of music! Well-behaved leashed dogs are welcome.\nThe Music In Midtown Concert series is brought to you by Midtown Row. These concerts are free and open to the public.\nConcerts will take place the 2nd Thursday of each month May-September.\nMusic In Midtown Lineup:\nJuly 18: The Connection\nAugust 8: Barry Manilow’s Wardrobe (80s Tribute Band)\nSeptember 12: Good Shot Judy
URL:https://midtownrowwilliamsburg.com/event/music-in-midtown-the-connection-2/
LOCATION:200 College Row\, Williamsburg VA 23185
CATEGORIES:at Midtown Row
ATTACH;FMTTYPE=image/jpeg:https://midtownrowwilliamsburg.com/wp-content/uploads/2024/01/barry-manilow-wardrobe-3.jpg
END:VEVENT
BEGIN:VEVENT
DTSTART;TZID=America/New_York:20240821T180000
DTEND;TZID=America/New_York:20240821T200000
DTSTAMP:20260421T045116
CREATED:20240117T195921Z
LAST-MODIFIED:20240807T161805Z
UID:1514-1724263200-1724270400@midtownrowwilliamsburg.com
SUMMARY:Music In Midtown: Barry Manilow's Wardrobe
DESCRIPTION:Don’t miss Barry Manilow’s Wardrobe at the 2024 Music In Midtown Concert Series!\nWe have rescheduled due to weather threats!!\n\nSave the date: Wednesday\, August 21 from 6pm-8pm\nLocation: Midtown Row Village Green (Across from Super Chix)\n\nBarry Manilow’s Wardrobe is dedicated to recreating New Wave and Alternative 80s music. They play the music you fell in love with on college radio back when hair was big and boomboxes were bigger.\nTheir set list includes U2\, INXS\, Simple Minds\, The Smiths\, The Cure\, Morrissey\, REM\, The Clash\, Elvis Costello\, Duran Duran\, Icehouse\, Psychedelic Furs\, The Smithereens\, The Replacements\, Joy Division\, Talking Heads\, Peter Murphy\, Modern English\, The Church\, The Plimsouls\, Squeeze\, New Order\, Flock of Seagulls\, David Bowie\, The Ramones\, Joe Jackson\, Tears for Fears\, Oingo Boingo\, Hoodoo Gurus\, When in Rome\, The Fixx\, Depeche Mode\, OMD\, Pet Shop Boys\, Echo and the Bunnymen\, Violent Femmes and so much more.\n\nBring your lawn chairs and friends for a fun night of music! Well-behaved leashed dogs are welcome.\nThe Music In Midtown Concert series is brought to you by Midtown Row. These concerts are free and open to the public.\nConcerts will take place the 2nd Thursday of each month May-September.\nMusic In Midtown Lineup:\nAugust 21: Barry Manilow’s Wardrobe (80s Tribute Band)\nSeptember 12: Good Shot Judy
URL:https://midtownrowwilliamsburg.com/event/music-in-midtown-barry-manilows-wardrobe/
LOCATION:200 College Row\, Williamsburg VA 23185
CATEGORIES:at Midtown Row
ATTACH;FMTTYPE=image/jpeg:https://midtownrowwilliamsburg.com/wp-content/uploads/2024/01/barry-manilow-wardrobe-5.jpg
END:VEVENT
BEGIN:VEVENT
DTSTART;TZID=America/New_York:20240829T100000
DTEND;TZID=America/New_York:20240829T150000
DTSTAMP:20260421T045116
CREATED:20240815T170154Z
LAST-MODIFIED:20240815T170154Z
UID:1610-1724925600-1724943600@midtownrowwilliamsburg.com
SUMMARY:Red Cross Blood Drive at Current Midtown
DESCRIPTION:We are hosting another Red Cross Blood Drive at the Current Midtown Apartments Clubhouse.\n\nEach donor will receive a $20 Amazon Gift Card via email!!\n\nDate: Thursday\, August 29 from 10am-3pmLocation: 221 Monticello Ave\nParking: Available across the street in the Earth Fare parking lot or behind Sal’s By Victor\n\nThe Red Cross has officially issued an Emergency Need for all blood types. Please sign up and help us save lives!
URL:https://midtownrowwilliamsburg.com/event/red-cross-blood-drive-at-current-midtown-2/
LOCATION:Current Midtown Clubhouse: 221 Monticello Ave Williamsburg VA
CATEGORIES:Current Midtown Clubhouse
ATTACH;FMTTYPE=image/jpeg:https://midtownrowwilliamsburg.com/wp-content/uploads/2024/08/Help_Save_a_Life__Illustrated_Instagram.jpg
END:VEVENT
BEGIN:VEVENT
DTSTART;TZID=America/New_York:20240912T180000
DTEND;TZID=America/New_York:20240912T200000
DTSTAMP:20260421T045116
CREATED:20240117T200214Z
LAST-MODIFIED:20240910T194153Z
UID:1517-1726164000-1726171200@midtownrowwilliamsburg.com
SUMMARY:Music In Midtown: Good Shot Judy
DESCRIPTION:We are thrilled to bring back Good Shot Judy for our Music In Midtown Concert Series!\n\nOur friends at The Virginia Beer Company will be on site selling cold beer and High Noon Seltzers.\nTherefore\, NO OUTSIDE ALCOHOL IS PERMITTED. COOLERS WILL BE CHECKED!! You will be asked to put any alcohol beverages you bring back in your car. \nVirginia Beer Company will be selling:\nFree Verse Hazy IPA\nGriffin Gold Golden Ale\nHigh Noon – Peach\, Lime\, and Pineapple\nCash and credit cards accepted. \n\nSave the date: Thursday\, September 12 from 6pm-8pm\nLocation: Midtown Row Village Green (Across from Super Chix)\n\nGood Shot Judy is THE MID-ATLANTIC’S NO. 1 HIGH OCTANE SWING BAND! A Good Shot Judy show offers all those tunes you know just from growing up in American – songs you can at least hum along to\, if you don’t outright know most of the words. But the music itself is only part of the band’s allure; there’s something electric in the execution\, and it’s that vigor that carries the day as much as the pull of recognition.\n\nBring your lawn chairs and friends for a fun night of music! Well-behaved leashed dogs are welcome.\nThe Music In Midtown Concert series is brought to you by Midtown Row. These concerts are free and open to the public.
URL:https://midtownrowwilliamsburg.com/event/music-in-midtown-good-shot-judy-2/
LOCATION:200 College Row\, Williamsburg VA 23185
CATEGORIES:at Midtown Row
ATTACH;FMTTYPE=image/jpeg:https://midtownrowwilliamsburg.com/wp-content/uploads/2024/01/Good-shot-judy-MTR-1.jpg
END:VEVENT
BEGIN:VEVENT
DTSTART;TZID=America/New_York:20241005T180000
DTEND;TZID=America/New_York:20241005T210000
DTSTAMP:20260421T045116
CREATED:20240715T151738Z
LAST-MODIFIED:20240715T151843Z
UID:1599-1728151200-1728162000@midtownrowwilliamsburg.com
SUMMARY:Housing Partnerships PIPE Concert Featuring The Deloreans
DESCRIPTION:PIPE Concert presented by Housing Partnerships\, Inc.Join us as we rock out like it’s the 80s with The Deloreans. We are so excited to bring them back to the burg. Come party with a purpose\, as this is a fundraiser for Housing Partnerships\, Inc. (HPI). Housing Partnerships has kept our neighbors safe\, warm\, and dry since 1985. Housing Partnerships\, Inc. provides emergency home repairs for low- to moderate-income families. Our clients must own their homes\, live in the home\, and meet income level guidelines.\nThe PIPE concert funds will stay here in the Historic Triangle\, and your participation is crucial. We use these funds to help fund gaps for clients lacking indoor plumbing or failing septic systems. Additionally\, funds will be used for our emergency home repair programs\, which include plumbing\, roofing\, etc.\nNo outside food/drinkNo coolersBYOC- Bring your own chair\n\nGates will open at 5 pm. The Deloreans will take the stage at 6 pm SHARP!\nLocation: 200 College Row\, Williamsburg\n\nNo refunds: We will honor your ticket for the next PIPE Concert if we cancel this event due to weather. Due to the band schedule\, we do not guarantee the concert will be rescheduled for 2024; however\, we will honor it for 2025.
URL:https://midtownrowwilliamsburg.com/event/housing-partnerships-pipe-concert-featuring-the-deloreans/
LOCATION:200 College Row\, Williamsburg VA 23185
CATEGORIES:at Midtown Row
ATTACH;FMTTYPE=image/jpeg:https://midtownrowwilliamsburg.com/wp-content/uploads/2024/07/450767328_797383592520208_8211559456457598355_n.jpeg
END:VEVENT
BEGIN:VEVENT
DTSTART;TZID=America/New_York:20241102T130000
DTEND;TZID=America/New_York:20241102T170000
DTSTAMP:20260421T045116
CREATED:20240516T161403Z
LAST-MODIFIED:20241024T214316Z
UID:1583-1730552400-1730566800@midtownrowwilliamsburg.com
SUMMARY:Williamsburg Fall Festival Presented By Midtown Row and CultureFix
DESCRIPTION:Save the date for our second annual Williamsburg Fall Festival!\nPresented by Midtown Row and CultureFix \nPlease park at the William & Mary School of Education parking lot right down the street! \nThank you to our sponsors: \nHarvester Sponsors: \nWilliam & Mary’s Raymond A. Mason School of Business \nSteve Sparkman State Farm Insurance Agency \nOff Load Moving \nPumpkin Sponsors: \nVisit Williamsburg \nIn Kind Sponsors: \nRemix Market and Junkluggers \nWhere: Midtown Row Village Green (Behind Sal’s By Victor and across from Super Chix)\nWhen: Saturday\, November 2 from 1-5pm \nThis event is free and open to the public!\nLive music by WOAH! (90s music)\, craft beer\, mechanical bull\, petting zoo\, rock climbing wall\, games\, and more! \nTiny Textures will have nail painting\, balloons and face painting for purchase. \nNo outside beverages permitted. \nOnly food from Midtown Row restaurants is permitted inside the event. (Earth Fare\, Amiraj\, Sal’s By Victor\, Super Chix\, Bonanza\, Cook’s Burger Bar\, California Tortilla\, Grit Coffee\, Rita’s\, Meadows\, etc.) \nLawn chairs and well behaved leashed dogs are welcome.
URL:https://midtownrowwilliamsburg.com/event/williamsburg-fall-festival-presented-by-midtown-row-and-culturefix/
LOCATION:200 College Row\, Williamsburg VA 23185
CATEGORIES:at Midtown Row
ATTACH;FMTTYPE=image/jpeg:https://midtownrowwilliamsburg.com/wp-content/uploads/2024/05/Untitled-Instagram-Post.jpg
END:VEVENT
BEGIN:VEVENT
DTSTART;TZID=America/New_York:20241119T163000
DTEND;TZID=America/New_York:20241119T173000
DTSTAMP:20260421T045116
CREATED:20241114T161914Z
LAST-MODIFIED:20241114T161914Z
UID:1649-1732033800-1732037400@midtownrowwilliamsburg.com
SUMMARY:Steve Prince Mural Reveal Event: "Pieces of History"
DESCRIPTION:Please join us for the Steve Prince Mural Reveal Event on Tuesday\, November 19 at 4:30pm. \nMural Location: On the side of FedEx\, 200 Monticello Ave. \nThe Virginia African American Cultural Center has brought this Steve Prince Mural to life in Williamsburg as part of statewide effort to raise awareness for black history. \nThis mural has been named “Pieces of History”. \nArtist statement: “The mural features a woman quilting the history of our nation from the south to north\, and east and west. The fragments and piece create a communal quilt that bespeak of the fragments that formulate all humankind from the past to the present. The woman is carrying the weight of the issues of our nation in her hands that stem from North to South\, East to West on the quilt. She is the mother that washed the clothes\, that birthed the children\, that cooked the food\, that tended to the sick\, and protected the family by any means necessary. The colors of the mural amplifying the beauty of a patchwork quilt\, deftly stitched together by generational hands. The woman is strong and sturdy and she has seen a lot in her journey. She sews with the hope that we will remember and find a way together to mend the broken places and promote healing for a true communal body.” \nThe mural is brought to you by the Virginia African American Cultural Center\, ViBe Creative\, The City of Williamsburg’s Public Art Council\, and Midtown Row.
URL:https://midtownrowwilliamsburg.com/event/steve-prince-mural-reveal-event-pieces-of-history/
LOCATION:200 Monticello Ave\, Williamsburg VA
CATEGORIES:at Midtown Row
ATTACH;FMTTYPE=image/jpeg:https://midtownrowwilliamsburg.com/wp-content/uploads/2024/11/steve-prince-mural-reveal-.jpg
END:VEVENT
BEGIN:VEVENT
DTSTART;TZID=America/New_York:20250504T100000
DTEND;TZID=America/New_York:20250504T160000
DTSTAMP:20260421T045116
CREATED:20250414T150314Z
LAST-MODIFIED:20250414T150314Z
UID:1714-1746352800-1746374400@midtownrowwilliamsburg.com
SUMMARY:Mary's Walk Williamsburg
DESCRIPTION:WHAT:\nAn outdoor community-wide walking event for all ages emphasizing walking for health\, active transportation\, the environment – and fun! This is a “walk at your own pace\, start any time\, start anywhere” fun walk\, not a race. All ages can participate. Distances from  1 to 10 miles. \nThere will be entertainment\, garden visits\, food and refreshment\, and other activities along the route. Walkers will experience special places easily accessed by foot in the central Williamsburg area. \nWHERE:\nParticipants can start at any point and walk any portion of the three routes. Together\, the three routes comprise a figure “8” with Merchant’s Square in the middle. \nMap 1 is the Downtown Williamsburg Loop (3.5 Miles) encompassing the College of William and Mary and Colonial Williamsburg. \nMap 2 is the William and Mary\, Midtown Row\, and New Town Loop (3.3 or 5.7 Miles). \nMap 3 is Colonial Williamsburg and The Edge District (5.1 Miles). \nDownload your chosen Route(s) to your device or print. To download the Maps\, click in the “Download PDF of Map” link below the map. All routes are on sidewalks and multiuse paths in Williamsburg and James City County. Points of Interests are numbered on the maps and correspond to the descriptions in the Points of Interest Guide.
URL:https://midtownrowwilliamsburg.com/event/marys-walk-williamsburg/
LOCATION:200 College Row\, Williamsburg VA 23185
CATEGORIES:in Williamsburg
ATTACH;FMTTYPE=image/jpeg:https://midtownrowwilliamsburg.com/wp-content/uploads/2025/04/marys-walk.jpeg
END:VEVENT
BEGIN:VEVENT
DTSTART;TZID=America/New_York:20250508T180000
DTEND;TZID=America/New_York:20250508T200000
DTSTAMP:20260421T045116
CREATED:20250130T171951Z
LAST-MODIFIED:20250130T183932Z
UID:1663-1746727200-1746734400@midtownrowwilliamsburg.com
SUMMARY:Music In Midtown: Revelation
DESCRIPTION:Revelation is kicking off our 2025 Music in Midtown concert series! \nSave the date: Thursday\, May 8 from 6pm-8pm \nLocation: Midtown Row Village Green\, 200 College Row\nRevelation is a versatile\, high energy band that will play all your favorite tunes and have you dancing! \nBring your lawn chairs and friends for a fun night of music! Well-behaved leashed dogs are welcome. \nThe Music In Midtown Concert series is brought to you by Midtown Row. \nThese concerts are free and open to the public.Concerts will take place the 2nd Thursday of each month May-September. \n 
URL:https://midtownrowwilliamsburg.com/event/music-in-midtown-revelation/
LOCATION:200 College Row\, Williamsburg VA 23185
CATEGORIES:at Midtown Row
ATTACH;FMTTYPE=image/jpeg:https://midtownrowwilliamsburg.com/wp-content/uploads/2025/01/revelation-music-in-midtown.jpg
END:VEVENT
BEGIN:VEVENT
DTSTART;TZID=America/New_York:20250612T180000
DTEND;TZID=America/New_York:20250612T200000
DTSTAMP:20260421T045116
CREATED:20250130T174622Z
LAST-MODIFIED:20250130T183834Z
UID:1666-1749751200-1749758400@midtownrowwilliamsburg.com
SUMMARY:Music In Midtown: Identity Crisis
DESCRIPTION:Identity Crisis is performing at Music in Midtown for the first time! \nSave the date: Thursday\, June 12 from 6pm-8pm \nLocation: Midtown Row Village Green\, 200 College Row\nIdentity Crisis is Williamsburg’s premier party band! They bring the fun\, you bring your dancing shoes! \nBring your lawn chairs and friends for a fun night of music! Well-behaved leashed dogs are welcome. \nThe Music In Midtown Concert series is brought to you by Midtown Row. \nThese concerts are free and open to the public.Concerts will take place the 2nd Thursday of each month May-September.
URL:https://midtownrowwilliamsburg.com/event/music-in-midtown-identity-crisis/
LOCATION:200 College Row\, Williamsburg VA 23185
CATEGORIES:at Midtown Row
ATTACH;FMTTYPE=image/jpeg:https://midtownrowwilliamsburg.com/wp-content/uploads/2025/01/IDENTITY-.jpg
END:VEVENT
BEGIN:VEVENT
DTSTART;TZID=America/New_York:20250716T180000
DTEND;TZID=America/New_York:20250716T200000
DTSTAMP:20260421T045116
CREATED:20250311T155328Z
LAST-MODIFIED:20250710T155622Z
UID:1680-1752688800-1752696000@midtownrowwilliamsburg.com
SUMMARY:Music In Midtown: Good Shot Judy
DESCRIPTION:RESCHEDULED to Wednesday\, July 16 from 6pm-8pm\nLocation: Midtown Row Village Green (Across from Super Chix)\n\nGood Shot Judy is THE MID-ATLANTIC’S NO. 1 HIGH OCTANE SWING BAND! A Good Shot Judy show offers all those tunes you know just from growing up in American – songs you can at least hum along to\, if you don’t outright know most of the words. But the music itself is only part of the band’s allure; there’s something electric in the execution\, and it’s that vigor that carries the day as much as the pull of recognition.\n\nBring your lawn chairs and friends for a fun night of music! Well-behaved leashed dogs are welcome.\n\nThe Music In Midtown Concert series is brought to you by Midtown Row. These concerts are free and open to the public.
URL:https://midtownrowwilliamsburg.com/event/music-in-midtown-good-shot-judy-3/
LOCATION:200 College Row\, Williamsburg VA 23185
CATEGORIES:at Midtown Row
ATTACH;FMTTYPE=image/jpeg:https://midtownrowwilliamsburg.com/wp-content/uploads/2025/03/good-shot-judy-mim-2025-2.jpg
END:VEVENT
BEGIN:VEVENT
DTSTART;TZID=America/New_York:20250814T180000
DTEND;TZID=America/New_York:20250814T200000
DTSTAMP:20260421T045116
CREATED:20250311T135554Z
LAST-MODIFIED:20250414T150029Z
UID:1677-1755194400-1755201600@midtownrowwilliamsburg.com
SUMMARY:Music In Midtown: Barry Manilow's Wardrobe
DESCRIPTION:Barry Manilow’s Wardrobe is taking the Midtown Row stage again! \nSave the date: Thursday\, August 14 from 6pm-8pm \nLocation: Midtown Row Village Green\, 200 College Row\nBarry Manilow’s Wardrobe is dedicated to recreating New Wave and Alternative 80s music. They play the music you fell in love with back in school when hair was big and boomboxes were bigger. \nTheir set list includes U2\, INXS\, Simple Minds\, The Smiths\, The Cure\, Morrissey\, REM\, The Clash\, Elvis Costello\, Duran Duran\, Icehouse\, Psychedelic Furs\, The Smithereens\, The Replacements\, Joy Division\, Talking Heads\, Peter Murphy\, Modern English\, The Church\, The Plimsouls\, Squeeze\, New Order\, Flock of Seagulls\, David Bowie\, The Ramones\, Joe Jackson\, Tears for Fears\, Oingo Boingo\, Hoodoo Gurus\, When in Rome\, The Fixx\, Depeche Mode\, OMD\, Pet Shop Boys\, Echo and the Bunnymen\, Violent Femmes and so much more \nBring your lawn chairs and friends for a fun night of music! Well-behaved leashed dogs are welcome. \nThe Music In Midtown Concert series is brought to you by Midtown Row. \nThese concerts are free and open to the public.Concerts will take place the 2nd Thursday of each month May-September.
URL:https://midtownrowwilliamsburg.com/event/music-in-midtown-barry-manilows/
LOCATION:200 College Row\, Williamsburg VA 23185
CATEGORIES:at Midtown Row
END:VEVENT
BEGIN:VEVENT
DTSTART;TZID=America/New_York:20250911T180000
DTEND;TZID=America/New_York:20250911T200000
DTSTAMP:20260421T045116
CREATED:20250331T153507Z
LAST-MODIFIED:20250331T153706Z
UID:1706-1757613600-1757620800@midtownrowwilliamsburg.com
SUMMARY:Music In Midtown: Bobby Blackhat Band
DESCRIPTION:Save the date: Thursday\, September 11 from 6pm-8pm \nLocation: Midtown Row Village Green\, 200 College Row\nBobby Blackhat Band is closing out the Music In Midtown concert series! \nBobby BlackHat\, Virginia’s Blues Ambassador\, blends the influences of Chicago\, Memphis\, Piedmont\, and Delta style blues along with a little Gospel into a Toe Tappin’\, Finger Poppin’\, Hip Shakin’ Blues experience. You Never Know What’s Gonna Happen at a Bobby BlackHat Show! He has opened for music legends: B.B King\, Taj Mahal\, Delbert McClinton\, Patti Labelle\, Ramsey Lewis\, and Maze. BlackHat is a judge for the International Blues Challenge in Memphis\, TN. \nBring your lawn chairs and friends for a fun night of music! Well-behaved leashed dogs are welcome. \nThe Music In Midtown Concert series is brought to you by Midtown Row. \nThese concerts are free and open to the public.Concerts will take place the 2nd Thursday of each month May-September.
URL:https://midtownrowwilliamsburg.com/event/music-in-midtown-bobby-blackhat-band/
LOCATION:200 College Row\, Williamsburg VA 23185
CATEGORIES:at Midtown Row
ATTACH;FMTTYPE=image/jpeg:https://midtownrowwilliamsburg.com/wp-content/uploads/2025/03/bobby-blackhat-mim-2025.jpg
END:VEVENT
BEGIN:VEVENT
DTSTART;TZID=America/New_York:20251101T120000
DTEND;TZID=America/New_York:20251101T160000
DTSTAMP:20260421T045116
CREATED:20250331T154901Z
LAST-MODIFIED:20250916T152537Z
UID:1710-1761998400-1762012800@midtownrowwilliamsburg.com
SUMMARY:3rd Annual Williamsburg Fall Festival
DESCRIPTION:Save the date for the 3rd Annual Williamsburg Fall Festival!Saturday\, November 1 from 12pm-4pm.\n\nLive Music by: THE FUZZ BAND\n\nThis event is FREE and open to the public.Family friendly\, dog friendly.\n\nCraft beers\, food\, and fun for the whole family!\n\nPetting zoo\, mechanical bull\, huge blow up slide\, bounce house\, games and more!\nThis event is brought to you by Midtown Row and CultureFix\n\n*Please park at the W&M School of Education lot.\n*Lawn chairs permitted.\n*Outside food (with exception of Midtown Row restaurants) and alcohol is prohibited.\n\nPLEASE IGNORE ALL SPAM – WE ARE NOT ACCEPTING VENDORS FOR THIS EVENT!
URL:https://midtownrowwilliamsburg.com/event/3rd-annual-williamsburg-fall-festival/
LOCATION:200 College Row\, Williamsburg VA 23185
CATEGORIES:at Midtown Row
ATTACH;FMTTYPE=image/jpeg:https://midtownrowwilliamsburg.com/wp-content/uploads/2025/03/2024-FALL-FEST-POSTER8.5-x-11-in-8.5-x-11-in-1-scaled.jpg
END:VEVENT
END:VCALENDAR