BEGIN:VCALENDAR
VERSION:2.0
PRODID:-//Midtown Row - ECPv6.15.20//NONSGML v1.0//EN
CALSCALE:GREGORIAN
METHOD:PUBLISH
X-WR-CALNAME:Midtown Row
X-ORIGINAL-URL:https://midtownrowwilliamsburg.com
X-WR-CALDESC:Events for Midtown Row
REFRESH-INTERVAL;VALUE=DURATION:PT1H
X-Robots-Tag:noindex
X-PUBLISHED-TTL:PT1H
BEGIN:VTIMEZONE
TZID:America/New_York
BEGIN:DAYLIGHT
TZOFFSETFROM:-0500
TZOFFSETTO:-0400
TZNAME:EDT
DTSTART:20210314T070000
END:DAYLIGHT
BEGIN:STANDARD
TZOFFSETFROM:-0400
TZOFFSETTO:-0500
TZNAME:EST
DTSTART:20211107T060000
END:STANDARD
BEGIN:DAYLIGHT
TZOFFSETFROM:-0500
TZOFFSETTO:-0400
TZNAME:EDT
DTSTART:20220313T070000
END:DAYLIGHT
BEGIN:STANDARD
TZOFFSETFROM:-0400
TZOFFSETTO:-0500
TZNAME:EST
DTSTART:20221106T060000
END:STANDARD
BEGIN:DAYLIGHT
TZOFFSETFROM:-0500
TZOFFSETTO:-0400
TZNAME:EDT
DTSTART:20230312T070000
END:DAYLIGHT
BEGIN:STANDARD
TZOFFSETFROM:-0400
TZOFFSETTO:-0500
TZNAME:EST
DTSTART:20231105T060000
END:STANDARD
BEGIN:DAYLIGHT
TZOFFSETFROM:-0500
TZOFFSETTO:-0400
TZNAME:EDT
DTSTART:20240310T070000
END:DAYLIGHT
BEGIN:STANDARD
TZOFFSETFROM:-0400
TZOFFSETTO:-0500
TZNAME:EST
DTSTART:20241103T060000
END:STANDARD
END:VTIMEZONE
BEGIN:VEVENT
DTSTART;TZID=America/New_York:20230421T120000
DTEND;TZID=America/New_York:20230421T170000
DTSTAMP:20260420T132431
CREATED:20230308T201549Z
LAST-MODIFIED:20230314T140516Z
UID:1383-1682078400-1682096400@midtownrowwilliamsburg.com
SUMMARY:Red Cross Blood Drive
DESCRIPTION:Midtown Row is hosting a Red Cross Blood drive in the Current Midtown Clubhouse on Friday\, April 21\, from 12pm-5pm. \nEach donor will receive a Peanuts Joe Cool Red Cross t-shirt free Insomnia Cookies\, an Earth Fare giveaway bag and will be entered into raffles for gift cards. \nSign up here ! Our goal is 34 donors. Help us save a life!
URL:https://midtownrowwilliamsburg.com/event/red-cross-blood-drive/
LOCATION:Current Midtown Clubhouse: 221 Monticello Ave Williamsburg VA
CATEGORIES:Current Midtown Clubhouse
ATTACH;FMTTYPE=application/pdf:https://midtownrowwilliamsburg.com/wp-content/uploads/2023/03/Midtown-Row-4-21-23.pdf
ORGANIZER;CN="Midtown Row":MAILTO:hwarner@broadstreetrealty.com
END:VEVENT
BEGIN:VEVENT
DTSTART;TZID=America/New_York:20221022T100000
DTEND;TZID=America/New_York:20221022T140000
DTSTAMP:20260420T132431
CREATED:20220808T171034Z
LAST-MODIFIED:20221004T160906Z
UID:1244-1666432800-1666447200@midtownrowwilliamsburg.com
SUMMARY:Fall Student Market
DESCRIPTION:We are excited to bring back the Student Market this Fall!\nStop by the Current Midtown Clubhouse and support small businesses\, primarily owned by William & Mary students!\n\nLive Music: Corey Pavlosky and Madison Overy\n\nVendors:\nMade Co\nHouse of Seven Boutique\nArise Co. Leather\nOchre Owl Press\nMeymico\nSA Originals\nTreats by Trin\nSincerely Hooked\nThe Bespoke Bodega\nThe804Store\nEnlighten\nCampus Greek
URL:https://midtownrowwilliamsburg.com/event/fall-student-market/
LOCATION:Current Midtown Clubhouse: 221 Monticello Ave Williamsburg VA
CATEGORIES:Current Midtown Clubhouse
ATTACH;FMTTYPE=image/jpeg:https://midtownrowwilliamsburg.com/wp-content/uploads/2022/08/IG-3.jpg
END:VEVENT
BEGIN:VEVENT
DTSTART;TZID=America/New_York:20220811T173000
DTEND;TZID=America/New_York:20220811T190000
DTSTAMP:20260420T132431
CREATED:20220802T195344Z
LAST-MODIFIED:20220802T195344Z
UID:1238-1660239000-1660244400@midtownrowwilliamsburg.com
SUMMARY:ASPIRE Young Professionals Exec Connect
DESCRIPTION:ASPIRE is hosting another Evening Exec Connect networking event on Thursday\, August 11th from 5:30 PM to 7 PM. The event will take place at the Current Midtown Clubhouse\, and tickets are $15.  \nJoin us to network with local young professionals and meet local business leaders and executives involved in the 2022 Mentorship Program. Your ticket includes hors d’oeuvres and two drink tickets. Attendees 21 and up are welcome.  \nPurchase Tickets
URL:https://midtownrowwilliamsburg.com/event/exec-connect/
LOCATION:Current Midtown Clubhouse: 221 Monticello Ave Williamsburg VA
CATEGORIES:Current Midtown Clubhouse
ATTACH;FMTTYPE=image/jpeg:https://midtownrowwilliamsburg.com/wp-content/uploads/2022/08/Screen-Shot-2022-08-02-at-3.53.03-PM.jpg
END:VEVENT
BEGIN:VEVENT
DTSTART;TZID=America/New_York:20220414T173000
DTEND;TZID=America/New_York:20220414T190000
DTSTAMP:20260420T132431
CREATED:20220406T154702Z
LAST-MODIFIED:20220406T154702Z
UID:1160-1649957400-1649962800@midtownrowwilliamsburg.com
SUMMARY:ASPIRE Young Professionals Evening Exec Connect
DESCRIPTION:The Greater Williamsburg Chamber of Commerce is hosting an Evening Exec Connect with the ASPIRE Young Professionals on Thursday\, April 14th from 5:30 PM to 7 PM! Join us in the Current Midtown Clubhouse to network with local young professionals and meet local business executives. Tickets are $15\, and entry includes hors d’oeuvres and two drink tickets. Attendees ages 21 and up are welcome.
URL:https://midtownrowwilliamsburg.com/event/evening-exec-connect/
CATEGORIES:Current Midtown Clubhouse
ATTACH;FMTTYPE=image/jpeg:https://midtownrowwilliamsburg.com/wp-content/uploads/2022/04/Evening-Exec-Connect-April-14.jpg
END:VEVENT
BEGIN:VEVENT
DTSTART;TZID=America/New_York:20220402T110000
DTEND;TZID=America/New_York:20220402T140000
DTSTAMP:20260420T132431
CREATED:20220315T174905Z
LAST-MODIFIED:20220323T200224Z
UID:1115-1648897200-1648908000@midtownrowwilliamsburg.com
SUMMARY:Student Spring Market
DESCRIPTION:Come shop local\, and support local students’ small businesses! \nThis event is FREE and open to the public \n\n10 Vendors\nMangata Coffee & Tea will have a cold brew coffee bar! The first 10 attendees will receive a free cold brew!\nLive Music TBD
URL:https://midtownrowwilliamsburg.com/event/student-spring-market/
LOCATION:Current Midtown Clubhouse: 221 Monticello Ave Williamsburg VA
CATEGORIES:Current Midtown Clubhouse
ATTACH;FMTTYPE=image/jpeg:https://midtownrowwilliamsburg.com/wp-content/uploads/2022/03/Spring-student-Market-1.jpg
END:VEVENT
BEGIN:VEVENT
DTSTART;TZID=America/New_York:20220326T100000
DTEND;TZID=America/New_York:20220326T160000
DTSTAMP:20260420T132431
CREATED:20220118T203843Z
LAST-MODIFIED:20220321T194239Z
UID:1065-1648288800-1648310400@midtownrowwilliamsburg.com
SUMMARY:Chesapeake Bay Writer's Book Parade
DESCRIPTION:Stroll through the parade and discover new books! Books in all subjects written by members of the Chesapeake Bay Writers (CBW).  Authors will be available to answer your questions about the creative process\, writing\, or publishing. Books are available for purchase. \nThis event is free and open to the public at the Current Midtown Clubhouse. \nCBW includes writers from the Middle Peninsula\, the Northern Neck\, Williamsburg\, and surrounding areas. They love to write and are eager to share their journey.
URL:https://midtownrowwilliamsburg.com/event/chesapeake-bay-writers-book-parade/
LOCATION:Current Midtown Clubhouse: 221 Monticello Ave Williamsburg VA
CATEGORIES:Current Midtown Clubhouse
ATTACH;FMTTYPE=image/jpeg:https://midtownrowwilliamsburg.com/wp-content/uploads/2022/01/BOOK-PARADE-.jpg
END:VEVENT
BEGIN:VEVENT
DTSTART;TZID=America/New_York:20220114T213000
DTEND;TZID=America/New_York:20220114T233000
DTSTAMP:20260420T132431
CREATED:20211216T173748Z
LAST-MODIFIED:20211216T173837Z
UID:1037-1642195800-1642203000@midtownrowwilliamsburg.com
SUMMARY:Winter Blues Jazz Fest: Late Night Event
DESCRIPTION:We are happy to welcome CultureFix and the Winter Blues Jazz Fest to the Current Midtown Clubhouse. \nFriday Night After Party: Michael Hawkins and the Brotherhood \nCurrent Midtown Clubhouse\n221 Monticello Ave\nWilliamsburg VA 23185 \nYour $35 Ticket price includes:\nOne drink ticket (wine or beer)\,\nSavory snacks and dessert\,\nand Live Entertainment with Michael Hawkins and the Brotherhood.
URL:https://midtownrowwilliamsburg.com/event/winter-blues-jazz-fest/
CATEGORIES:Current Midtown Clubhouse
ATTACH;FMTTYPE=image/png:https://midtownrowwilliamsburg.com/wp-content/uploads/2021/12/wbjf-logo-.png
END:VEVENT
END:VCALENDAR